BEGIN:VCALENDAR
VERSION:2.0
PRODID:-//sklep.feelfreetraveler.pl - ECPv6.15.20//NONSGML v1.0//EN
CALSCALE:GREGORIAN
METHOD:PUBLISH
X-WR-CALNAME:sklep.feelfreetraveler.pl
X-ORIGINAL-URL:https://sklep.feelfreetraveler.pl
X-WR-CALDESC:Wydarzenia dla sklep.feelfreetraveler.pl
REFRESH-INTERVAL;VALUE=DURATION:PT1H
X-Robots-Tag:noindex
X-PUBLISHED-TTL:PT1H
BEGIN:VTIMEZONE
TZID:Europe/Warsaw
BEGIN:DAYLIGHT
TZOFFSETFROM:+0100
TZOFFSETTO:+0200
TZNAME:CEST
DTSTART:20190331T010000
END:DAYLIGHT
BEGIN:STANDARD
TZOFFSETFROM:+0200
TZOFFSETTO:+0100
TZNAME:CET
DTSTART:20191027T010000
END:STANDARD
BEGIN:DAYLIGHT
TZOFFSETFROM:+0100
TZOFFSETTO:+0200
TZNAME:CEST
DTSTART:20200329T010000
END:DAYLIGHT
BEGIN:STANDARD
TZOFFSETFROM:+0200
TZOFFSETTO:+0100
TZNAME:CET
DTSTART:20201025T010000
END:STANDARD
BEGIN:DAYLIGHT
TZOFFSETFROM:+0100
TZOFFSETTO:+0200
TZNAME:CEST
DTSTART:20210328T010000
END:DAYLIGHT
BEGIN:STANDARD
TZOFFSETFROM:+0200
TZOFFSETTO:+0100
TZNAME:CET
DTSTART:20211031T010000
END:STANDARD
BEGIN:DAYLIGHT
TZOFFSETFROM:+0100
TZOFFSETTO:+0200
TZNAME:CEST
DTSTART:20220327T010000
END:DAYLIGHT
BEGIN:STANDARD
TZOFFSETFROM:+0200
TZOFFSETTO:+0100
TZNAME:CET
DTSTART:20221030T010000
END:STANDARD
BEGIN:DAYLIGHT
TZOFFSETFROM:+0100
TZOFFSETTO:+0200
TZNAME:CEST
DTSTART:20230326T010000
END:DAYLIGHT
BEGIN:STANDARD
TZOFFSETFROM:+0200
TZOFFSETTO:+0100
TZNAME:CET
DTSTART:20231029T010000
END:STANDARD
END:VTIMEZONE
BEGIN:VEVENT
DTSTART;TZID=Europe/Warsaw:20220717T120000
DTEND;TZID=Europe/Warsaw:20220717T140000
DTSTAMP:20260419T135648
CREATED:20220709T085433Z
LAST-MODIFIED:20220709T085433Z
UID:1475-1658059200-1658066400@sklep.feelfreetraveler.pl
SUMMARY:SPACER MIEJSKI - Magiczny świat Chasydów\, czy próżno szukać Chasyda na Próżnej?
DESCRIPTION:  \nFascynuje Cię magiczny świat Chasydów i Ortodoxów? Jesteś fanem serialu Unortodox\, czy Shtisel? Zastanawia Cię po co Żydom pejsy\, jarmułki\, chałaty i wystające z koszuli sznurki? Zapraszamy na letni spacer\, szlakiem barwnych warszawskich chasydzkich opowieści. \nW przedwojennej Warszawie mieszkało wielu przedstawicieli dynastii chasydzkich. Na Grzybowie\, przy ulicy Twardej\, powstawały jak grzyby po deszczu modlitewnie Chasydów z Modrzyc\,  Aleksandrowa Łódzkiego\, Warki\, Radzynia Podlaskiego\, czy Góry Kalwarii.  Do dziś przetrwała tylko jedna\, na rogu ul. Twardej i Żelaznej\, stanowiąca część warszawskiej rezydencji cadyka z Góry Kalwarii Icie Majera Altera. \nKażda grupa chasydzka odznaczała się swoimi zwyczajami i specyficznym strojem np. Chasydzi z Góry Kalwarii nazywani „górskimi chasydami” nosili wysokie buty z cholewami\, uwagę zwracały też futrzane czapki\, przypominające współczesny kołpak\,  zwane z polska lisiurą lub sztrejmel. \nWarszawscy Żydzi w dużej mierze mieszkali w odrębnych enklawach: na Grzybowie – Żydzi polscy\,  na Nalewkach i Muranowie – częściej Żydzi zwani litwakami. Dużym skupiskiem żydowskim była warszawska Praga. Tam też nauczał „gaon”\, czyli geniusz myśli Menachem Ziemba\, któremu proponowano nawet\, aby został naczelnym rabinem Jerozolimy. \nAle to właśnie na Grzybowie rezydowała najbardziej religijna część społeczności żydowskiej.  Żydzi zasiedlili Plac Grzybowski\, ulicę Próżną i Bagno około roku 1850. A Grzybów stał się drugą co do wielkości dzielnicą zamieszkiwaną przez warszawskich Żydów.  Było tu blisko 20 małych modlitewni\, a obok siebie sąsiadowały dwie Synagogi – przy Twardej 4 i 6. \nReligia wyznaczała sztywne ramy żydowskiego życia\, każde odstępstwo od licznych nakazów i zwyczajów\, było krytykowane i napiętnowane. Szczególnie w Szabat\, czyli cotygodniowe święto. Jak pisał laureat literackiej nagrody Nobla  Isaak Bashevis Singer: \nNa „tych” ulicach prawie w każdym podwórku mieściła się chasydzka sztibł\, a na kilka domów przypadała rytualna łaźnia… (…) Chłopcy i młodzi mężczyźni studiujący Torę rzadko kiedy chowali pejsy okręcając je wokół uszu – tutaj nie było takiej potrzeby. Często spotykało sie stare\, straszliwe zgarbione kobiety w wysokich czepcach z różnokolorowymi wstęgami z atłasu…. (…) Te okolice ulubili sobie rabini i cadykowie. Każdy czcigodny rebe\, gdy przybywał do Warszawy\, zatrzymywał się właśnie tu i tu miał wszelkie wygody. \nWarszawska prasa prawie codziennie rozpisywała się o sensacjach ze świata chasydów.  Tytuły gazet donosiły\, że w Bejt ha-midraszu cadyka parysowskiego przy ulicy Twardej chasydzi odurzają się wąchaniem tymianku. Do innej Bożnicy wciągnięto brodatego chrześcijanina\, myśląc\, że złapano dziesiątego Żyda do modlitwy. Informowano o tłumach Chasydów żegnających na dworcu swojego cadyka cudotwórcę wyruszającego na kuracją do wód  \n(…)  smętne czarno-atłasowo przybrane postaci z malowniczymi pejsami uwiją się koło syczącego i prychającego parą parowozu. Szepczą jakieś niesamowite zaklęcia\, głaszczą ściany maszyny\, rzewnie i z uczuciem je całując. Są to prośby do lokomotywy\, aby szczęśliwie dowiozła cudotwórcę na miejsce. \nTaki był właśnie Plac Grzybowski – na początku ul. Twardej sąsiadowały ze sobą różne światy. W kościele Wszystkich Świętych modlili się katolicy\, a kilkadziesiąt metrów dalej sąsiadowały ze sobą domy modlitwy ortodoksyjnych Żydów i jeszcze bardziej ortodoksyjnych Chasydów. Świat żydowskiej inteligencji takiej jak rodzina Prywesów sąsiadował ze światem prostych ludzi – zarówno Żydów\, jak i Polaków. \nPlac Grzybowski to miejsce pod każdym względem wyjątkowe. Choć usytuowany w samym centrum stolicy\, dla wielu pozostaje oazą wytchnienia od otaczającego zgiełku\, nie tracąc nic ze swojej wielkomiejskości. Zawieszony pomiędzy różnymi wątkami warszawskiej historii\, nawarstwieniami architektonicznymi i grupami społecznymi. \nZainteresowany? Zapraszamy na spacer po Grzybowie z chasydzkimi opowieściami w tle. Będzie na luzie z przymrużeniem oka ale ze szczyptą nieszablonowej dawki wiedzy.  \n Co w rozkładzie:  \nKim są Chasydzi i skąd wzięły się ich dwory. \nKto to jest Cadyk i co ma z tym wspólnego paszkwil i kwitel. \nTałes i tfilin\, czyli dlaczego Żydzi modlą się z pudełkiem na głowie. \nSzabat\, czyli noc rozmnożenia. \nDlaczego religijnych Żydów w piątki nie boli głowa. \nCo robi religijny Żyd po wyjściu z toalety. \nKtórą nogą należy rano wstać\, i który but założyć jako pierwszy. \n100 błogosławieństw i 613 micwot – dzienna dawka pobożności. \nPo co komu kołpak na głowie\, a na brodzie pekaesy. \nKiwać się\, czy się nie kiwać? modlitwy\, tańce i chasydzkie hulańce. \nCo to jest babiniec. \nCzy kobieta może wystąpić o rozwód – gdy mąż “nie staje”… na wysokości zadania. \nDlaczego Rabin zabronił w Szabat dłubać w nosie… \nKim byli Strażnicy Soboty i czego pilnowali. \nDlaczego po gwoździe chodziło się do Prywesa i gdzie była jego Bożnica. \nCzy demonica Lilit mieszkała w Synagodze Nożyków. \nDlaczego pewien Rebe nie czesał pejsów. \nKim byli martwi chasydzi i gdzie był ich „pokój zwierzeń”. \nKto powołał towarzystwo zapobiegania samobójstwom. \nKto rozdawał papier toaletowy w chasydzkim sztiblu w ramach pokuty. \nKim był elegant z Pociejowa\, a na kogo krzyczała Rejzla Krzykaczka. \nGdzie była Bóżnica Seredynów i kto odnalazł w niej skarb. \nZainteresowany? Tego i wiele więcej dowiesz się podczas spaceru po Grzybowie z chasydzkimi opowieściami w tle. Będzie na luzie z przymrużeniem oka ale ze szczyptą nieszablonowej dawki wiedzy.  \nZapraszamy! To będzie niezła Hucpa!
URL:https://sklep.feelfreetraveler.pl/wydarzenie/spacer-miejski-magiczny-swiat-chasydow-czy-prozno-szukac-chasyda-na-proznej/
END:VEVENT
BEGIN:VEVENT
DTSTART;TZID=Europe/Warsaw:20201112T180000
DTEND;TZID=Europe/Warsaw:20201112T180000
DTSTAMP:20260419T135648
CREATED:20201103T112528Z
LAST-MODIFIED:20201103T112528Z
UID:434-1605204000-1605204000@sklep.feelfreetraveler.pl
SUMMARY:#3 Niezła Hucpa: Straszny Golem\, Dybuk\,  Abrakadabra i klątwa rabina\, czyli żydowskie strachy na lachy i cmentarne sprawy!
DESCRIPTION:Zapisz się na szkolenie Tutaj
URL:https://sklep.feelfreetraveler.pl/wydarzenie/3-niezla-hucpa-straszny-golem-dybuk-abrakadabra-i-klatwa-rabina-czyli-zydowskie-strachy-na-lachy-i-cmentarne-sprawy/
ATTACH;FMTTYPE=image/jpeg:https://sklep.feelfreetraveler.pl/wp-content/uploads/2020/11/6-slajder-6-Niezla-Hucpa-Dintojra-i-szemrane-sprawki-czyli-w-cieniu-ydowskiego-pwiatka.jpg
END:VEVENT
BEGIN:VEVENT
DTSTART;TZID=Europe/Warsaw:20201112T180000
DTEND;TZID=Europe/Warsaw:20201112T180000
DTSTAMP:20260419T135648
CREATED:20201103T112504Z
LAST-MODIFIED:20201103T112512Z
UID:431-1605204000-1605204000@sklep.feelfreetraveler.pl
SUMMARY:#2 Niezła Hucpa: Straszny Golem\, Dybuk\,  Abrakadabra i klątwa rabina\, czyli żydowskie strachy na lachy i cmentarne sprawy!
DESCRIPTION:Zapisz się na szkolenie Tutaj
URL:https://sklep.feelfreetraveler.pl/wydarzenie/1-niezla-hucpa-straszny-golem-dybuk-abrakadabra-i-klatwa-rabina-czyli-zydowskie-strachy-na-lachy-i-cmentarne-sprawy-2/
ATTACH;FMTTYPE=image/jpeg:https://sklep.feelfreetraveler.pl/wp-content/uploads/2020/11/6-slajder-6-Niezla-Hucpa-Dintojra-i-szemrane-sprawki-czyli-w-cieniu-ydowskiego-pwiatka.jpg
END:VEVENT
BEGIN:VEVENT
DTSTART;TZID=Europe/Warsaw:20201112T180000
DTEND;TZID=Europe/Warsaw:20201112T180000
DTSTAMP:20260419T135648
CREATED:20201102T125126Z
LAST-MODIFIED:20201102T130053Z
UID:379-1605204000-1605204000@sklep.feelfreetraveler.pl
SUMMARY:#1 Niezła Hucpa: Straszny Golem\, Dybuk\,  Abrakadabra i klątwa rabina\, czyli żydowskie strachy na lachy i cmentarne sprawy!
DESCRIPTION:Zapisz się na szkolenie Tutaj
URL:https://sklep.feelfreetraveler.pl/wydarzenie/1-niezla-hucpa-straszny-golem-dybuk-abrakadabra-i-klatwa-rabina-czyli-zydowskie-strachy-na-lachy-i-cmentarne-sprawy/
ATTACH;FMTTYPE=image/jpeg:https://sklep.feelfreetraveler.pl/wp-content/uploads/2020/11/6-slajder-6-Niezla-Hucpa-Dintojra-i-szemrane-sprawki-czyli-w-cieniu-ydowskiego-pwiatka.jpg
END:VEVENT
END:VCALENDAR